BEGIN:VCALENDAR
VERSION:2.0
PRODID:-//wp-events-plugin.com//7.2.3.1//EN
TZID:Europe/Paris
X-WR-TIMEZONE:Europe/Paris
BEGIN:VEVENT
UID:44@pleiraa.org
DTSTART;TZID=Europe/Paris:20260402T183000
DTEND;TZID=Europe/Paris:20260402T200000
DTSTAMP:20260130T094335Z
URL:https://www.pleiraa.org/events/webinaire-gratuit-temps-dechange-de-pra
 tiques-temps-dechange-de-pratiques-cas-cliniques-interactifs-en-orthogenie
 /
SUMMARY:Webinaire gratuit : Temps d'échange de pratiques : Cas cliniques i
 nteractifs en orthogénie
DESCRIPTION:webinaire gratuit dédié aux professionnels impliqués dans l'
 accompagnement et a prise en charge de l'IVG. Cet espace d'échanges perme
 ttra de partager expériences\, bonnes pratiques et difficultés rencontr
 ées dans un cadre bienveillant et constructif.\n\nPour alimenter l’éch
 ange et le rendre concret\, nous vous proposons de partir de situations v
 écues par vous-même ou vos équipes dans la pratique de l’IVG\, que ce
  soit d’un point de vue organisationnel\, relationnel ou médical\, tous
  les sujets sont bienvenus.\n\nRejoignez-nous pour enrichir vos pratiques 
 et dialoguer avec d'autres professionnels engagés !\n\nInscription gratui
 te mais obligatoire en ligne ici.
CATEGORIES:Webinaires
END:VEVENT
BEGIN:VTIMEZONE
TZID:Europe/Paris
X-LIC-LOCATION:Europe/Paris
BEGIN:DAYLIGHT
DTSTART:20260329T030000
TZOFFSETFROM:+0100
TZOFFSETTO:+0200
TZNAME:CEST
END:DAYLIGHT
END:VTIMEZONE
END:VCALENDAR