BEGIN:VCALENDAR
VERSION:2.0
PRODID:-//wp-events-plugin.com//7.2.3.1//EN
TZID:Europe/Paris
X-WR-TIMEZONE:Europe/Paris
BEGIN:VEVENT
UID:42@pleiraa.org
DTSTART;TZID=Europe/Paris:20260319T183000
DTEND;TZID=Europe/Paris:20260319T200000
DTSTAMP:20260123T080433Z
URL:https://www.pleiraa.org/events/webinaire-gratuit-les-regles-hemorragiq
 ues/
SUMMARY:Webinaire gratuit - Les règles hémorragiques
DESCRIPTION:Ce webinaire gratuit propose une information claire et accessib
 le sur les règles hémorragiques. Il abordera les signes d'alerte\, les c
 auses possibles\, les impacts sur la qualité de vie et les solutions de p
 rise en charge\, afin de mieux repérer\, orienter et accompagner les pers
 onnes concernées.\n\nUne opportunité pour s'informer et poser vos questi
 ons en toute simplicité !\n\ninscription ici.\n\nWebinaire animé par Giu
 lia Gouy\, gynécologue méd à Lyon\, Croix Rousse.
CATEGORIES:Webinaires
END:VEVENT
BEGIN:VTIMEZONE
TZID:Europe/Paris
X-LIC-LOCATION:Europe/Paris
BEGIN:STANDARD
DTSTART:20251026T020000
TZOFFSETFROM:+0200
TZOFFSETTO:+0100
TZNAME:CET
END:STANDARD
END:VTIMEZONE
END:VCALENDAR