BEGIN:VCALENDAR
VERSION:2.0
PRODID:-//wp-events-plugin.com//7.2.3.1//EN
TZID:Europe/Paris
X-WR-TIMEZONE:Europe/Paris
BEGIN:VEVENT
UID:37@pleiraa.org
DTSTART;TZID=Europe/Paris:20260330T083000
DTEND;TZID=Europe/Paris:20260331T174500
DTSTAMP:20251107T110933Z
URL:https://www.pleiraa.org/events/formation-depistage-et-prise-en-charge-
 des-femmes-victimes-de-violences-conjugales-intrafamiliales-et-sexuelles-3
 /
SUMMARY:Formation dépistage et prise en charge des femmes victimes de viol
 ences conjugales\, intrafamiliales et sexuelles (63)
DESCRIPTION:Formation animée par un ou deux praticiens (médecins ou sages
 -femmes ayant une activité en lien avec la thématique de la formation do
 tés d’une formation de formateur ou d’une expérience dans la formati
 on)\, ainsi que par un ou deux intervenants supplémentaires ayant la conn
 aissance du secteur et pouvant proposer différents outils pour un accompa
 gnement en réseau.\n\nOBJECTIF : Comprendre les mécanismes de la violenc
 e\, apprendre à repérer les situations à risque et à dépister systém
 atiquement. Savoir accompagner\, aider\, informer et orienter les personne
 s victimes.\n\nPrise en charge DPC : formation validée par l’ANDPC. Su
 ite à l’inscription\, vous serez informé.es des modalités de demande 
 de prise en charge dès l’ouverture de la session sur mondpc.fr.\nMerci 
 de nous transmettre votre demande d’inscription avant toute demande de p
 rise en charge DPC.\n\nBulletin d'inscription\n\nProgramme général
CATEGORIES:Formations
LOCATION:Secteur CLERMONT-FERRAND\, Secteur de CLERMONT-FERRAND\, Clermont-
 Ferrand\, 63000\, France
X-APPLE-STRUCTURED-LOCATION;VALUE=URI;X-ADDRESS=Secteur de CLERMONT-FERRAND
 \, Clermont-Ferrand\, 63000\, France;X-APPLE-RADIUS=100;X-TITLE=Secteur CL
 ERMONT-FERRAND:geo:0,0
END:VEVENT
BEGIN:VTIMEZONE
TZID:Europe/Paris
X-LIC-LOCATION:Europe/Paris
BEGIN:DAYLIGHT
DTSTART:20260329T030000
TZOFFSETFROM:+0100
TZOFFSETTO:+0200
TZNAME:CEST
END:DAYLIGHT
END:VTIMEZONE
END:VCALENDAR