BEGIN:VCALENDAR
VERSION:2.0
PRODID:-//wp-events-plugin.com//7.2.3.1//EN
TZID:Europe/Paris
X-WR-TIMEZONE:Europe/Paris
BEGIN:VEVENT
UID:39@pleiraa.org
DTSTART;TZID=Europe/Paris;VALUE=DATE:20260629
DTEND;TZID=Europe/Paris;VALUE=DATE:20260701
DTSTAMP:20260126T070634Z
URL:https://www.pleiraa.org/events/formation-a-la-pratique-de-livg-medicam
 enteuse-programme-theorique-format-en-distanciel/
SUMMARY:Formation à la pratique de l'IVG médicamenteuse - programme théo
 rique -FORMAT EN DISTANCIEL
DESCRIPTION:Bulletin d'inscription à retourner par mail ou voie postale\n\
 nBulletin d'inscription en ligne en cliquant ici.\n\nProgramme général f
 ormation IVG médicamenteuse\n\nFormation animée par deux praticiens (mé
 decins ou sages-femmes) et une conseillère conjugale et familiale.\n\n 	G
 iulia Gouy\, gynécologue méd\n 	Mathieu Gardon\, sage-femme\n 	Stéphani
 e Mazeres\, CCF\n\nOBJECTIF : Acquérir sur le plan théorique les connais
 sances et compétences nécessaires à la pratique de l’IVG médicamente
 use.\n\nPrise en charge DPC : formation validée par l’ANDPC. Suite à 
 l’inscription\, vous serez informé.es des modalités de demande de pris
 e en charge dès l’ouverture de la session sur mondpc.fr.\nMerci de nous
  transmettre votre demande d’inscription avant toute demande de prise en
  charge DPC.
CATEGORIES:Formations
END:VEVENT
BEGIN:VTIMEZONE
TZID:Europe/Paris
X-LIC-LOCATION:Europe/Paris
BEGIN:DAYLIGHT
DTSTART:20260329T030000
TZOFFSETFROM:+0100
TZOFFSETTO:+0200
TZNAME:CEST
END:DAYLIGHT
END:VTIMEZONE
END:VCALENDAR