BEGIN:VCALENDAR
VERSION:2.0
PRODID:-//wp-events-plugin.com//7.2.3.1//EN
TZID:Europe/Paris
X-WR-TIMEZONE:Europe/Paris
BEGIN:VEVENT
UID:41@pleiraa.org
DTSTART;TZID=Europe/Paris;VALUE=DATE:20261126
DTEND;TZID=Europe/Paris;VALUE=DATE:20261128
DTSTAMP:20260126T070725Z
URL:https://www.pleiraa.org/events/formation-a-la-pratique-de-livg-medicam
 enteuse-programme-theorique-clermont-ferrand/
SUMMARY:Formation à la pratique de l'IVG médicamenteuse - programme théo
 rique - Clermont Ferrand
DESCRIPTION:Bulletin d'inscription  à retourner par voie postale ou mail\
 n\nBulletin en ligne\n\nProgramme général formation IVG médicamenteuse\
 n\nFormation animée par un ou deux praticiens (médecins ou sages-femmes)
  et une conseillère conjugale et familiale.\n\n 	Maud KARINTHI\, médecin
 \n 	Mylène DRUGET\, médecin\n 	Coralie LORIDON\, CCF\n\nIntervention de 
 professionnels du secteur géographique privilégiée en vue de favoriser 
 la création ou le renforcement des réseaux locaux.\n\nOBJECTIF : Acquér
 ir sur le plan théorique les connaissances et compétences nécessaires 
 à la pratique de l’IVG médicamenteuse.\n\n&nbsp\;\n\nPrise en charge D
 PC : formation validée par l’ANDPC. Suite à l’inscription\, vous se
 rez informé.es des modalités de demande de prise en charge dès l’ouve
 rture de la session sur mondpc.fr.\nMerci de nous transmettre votre demand
 e d’inscription avant toute demande de prise en charge DPC.
CATEGORIES:Formations
LOCATION:CLERMONT FERRAND\, 25 rue Lucie et Raymond Aubrac\, Clermont-Ferra
 nd\, 63000\, France
X-APPLE-STRUCTURED-LOCATION;VALUE=URI;X-ADDRESS=25 rue Lucie et Raymond Aub
 rac\, Clermont-Ferrand\, 63000\, France;X-APPLE-RADIUS=100;X-TITLE=CLERMON
 T FERRAND:geo:0,0
END:VEVENT
BEGIN:VTIMEZONE
TZID:Europe/Paris
X-LIC-LOCATION:Europe/Paris
BEGIN:STANDARD
DTSTART:20261025T020000
TZOFFSETFROM:+0200
TZOFFSETTO:+0100
TZNAME:CET
END:STANDARD
END:VTIMEZONE
END:VCALENDAR