BEGIN:VCALENDAR
VERSION:2.0
PRODID:-//wp-events-plugin.com//7.2.3.1//EN
TZID:Europe/Paris
X-WR-TIMEZONE:Europe/Paris
BEGIN:VEVENT
UID:38@pleiraa.org
DTSTART;TZID=Europe/Paris;VALUE=DATE:20260306
DTEND;TZID=Europe/Paris;VALUE=DATE:20260308
DTSTAMP:20260302T131608Z
URL:https://www.pleiraa.org/events/5042/
SUMMARY:Journée régionale IVG contraception - Grenoble (38)
DESCRIPTION:															\n																														\n														
 																\n		Tarifs et inscriptionTarifs pour les 2 jours :Médecin
 s\, Sages-femmes (cadre/coordinateur) 75 €Autres professionnels ((IDE\, 
 CCF\, AMA\, assistante sociale\, psychologue etc) 35 €Soirée festive su
 r inscription Participation demandée 30 € / persLes inscriptions sont d
 ésormais clôturées.ProgrammePour toutes informations complémentaires :
  cglenat1@chu-grenoble.fr
CATEGORIES:journée régionale
LOCATION:Campus UGA 38400\, 100 Place centrale\, SAINT-MARTIN-D'HÈRES\, 38
 400\, France
X-APPLE-STRUCTURED-LOCATION;VALUE=URI;X-ADDRESS=100 Place centrale\, SAINT-
 MARTIN-D'HÈRES\, 38400\, France;X-APPLE-RADIUS=100;X-TITLE=Campus UGA 384
 00:geo:0,0
END:VEVENT
BEGIN:VTIMEZONE
TZID:Europe/Paris
X-LIC-LOCATION:Europe/Paris
BEGIN:STANDARD
DTSTART:20251026T020000
TZOFFSETFROM:+0200
TZOFFSETTO:+0100
TZNAME:CET
END:STANDARD
END:VTIMEZONE
END:VCALENDAR